BEGIN:VCALENDAR
VERSION:2.0
PRODID:SchoolNow
CALSCALE:GREGORIAN
BEGIN:VEVENT
UID:f9d9ae56-1259-11f1-afad-0a58a9feac02
DTSTAMP:20260421T145508Z
SUMMARY:Alyssa’s Law and AI Response Systems
LOCATION:https://zoom.us/w/96313819581?tk=7sHcbN-Ih3lJ9QXcMXTfFIAbYlYPIGRK_
 8C0xIQuYXE.DQkAAAAWbMBBvRY0cDFoN1dqMVJxQzFUSFo0bEFzSDJ3AAAAAAAAAAAAAAAAAAA
 AAAAAAAAAAAAAAAAAAAAAAAA&uuid=WN_6GhaJaQvQXG3JkJZCUuKFQ
URL;VALUE=URI:https://www.reachroyals.org/parents/calendar/8870558/alyssa-s
 -law-and-ai-response-systems
DTSTART:20260226T233000Z
DTEND:20260226T235900Z
END:VEVENT
END:VCALENDAR
