BEGIN:VCALENDAR
VERSION:2.0
PRODID:SchoolNow
CALSCALE:GREGORIAN
BEGIN:VEVENT
UID:aed9f5d8-1820-11f1-b7b2-0a58a9feac02
DTSTAMP:20260421T085008Z
SUMMARY:Read Across the World
URL;VALUE=URI:https://www.reachroyals.org/parents/calendar/8891043/read-acr
 oss-the-world
DTSTART;VALUE=DATE:20260302
DTEND;VALUE=DATE:20260307
END:VEVENT
END:VCALENDAR
