BEGIN:VCALENDAR
VERSION:2.0
PRODID:SchoolNow
CALSCALE:GREGORIAN
BEGIN:VEVENT
UID:aed9fbd2-1820-11f1-8a9d-0a58a9feac02
DTSTAMP:20260421T085008Z
SUMMARY:Public Lottery
URL;VALUE=URI:https://www.reachroyals.org/parents/calendar/8891045/public-l
 ottery
DTSTART:20260319T000000Z
DTEND:20260319T020000Z
END:VEVENT
END:VCALENDAR
