BEGIN:VCALENDAR
VERSION:2.0
PRODID:SchoolNow
CALSCALE:GREGORIAN
BEGIN:VEVENT
UID:aed9ffe2-1820-11f1-a5da-0a58a9feac02
DTSTAMP:20260421T085008Z
SUMMARY:Coin Drive- Unicef Donation
URL;VALUE=URI:https://www.reachroyals.org/parents/calendar/8891046/coin-dri
 ve-unicef-donation
DTSTART;VALUE=DATE:20260309
DTEND;VALUE=DATE:20260314
END:VEVENT
END:VCALENDAR
