BEGIN:VCALENDAR
VERSION:2.0
PRODID:SchoolNow
CALSCALE:GREGORIAN
BEGIN:VEVENT
UID:9ad12982-19b8-11f1-882f-0a58a9feac02
DTSTAMP:20260421T085008Z
SUMMARY:AAPAC Meeting on Zoom
URL;VALUE=URI:https://www.reachroyals.org/parents/calendar/8897032/aapac-me
 eting-on-zoom
DTSTART:20260327T010000Z
DTEND:20260327T020000Z
END:VEVENT
END:VCALENDAR
