BEGIN:VCALENDAR
VERSION:2.0
PRODID:SchoolNow
CALSCALE:GREGORIAN
BEGIN:VEVENT
UID:9ad17cb6-19b8-11f1-828e-0a58a9feac02
DTSTAMP:20260421T085008Z
SUMMARY:Middle School Spirit Week
URL;VALUE=URI:https://www.reachroyals.org/parents/calendar/8897033/middle-s
 chool-spirit-week
DTSTART;VALUE=DATE:20260323
DTEND;VALUE=DATE:20260328
END:VEVENT
END:VCALENDAR
