BEGIN:VCALENDAR
VERSION:2.0
PRODID:SchoolNow
CALSCALE:GREGORIAN
BEGIN:VEVENT
UID:7c5bf0a2-1c1c-11f1-aa4a-0ec2c3c4c82d
DTSTAMP:20260421T085008Z
SUMMARY:Awards Assemby: T2 Honor Roll (ES)
URL;VALUE=URI:https://www.reachroyals.org/parents/calendar/8905257/awards-a
 ssemby-t2-honor-roll-es
DTSTART;VALUE=DATE:20260319
DTEND;VALUE=DATE:20260320
END:VEVENT
END:VCALENDAR
