BEGIN:VCALENDAR
VERSION:2.0
PRODID:SchoolNow
CALSCALE:GREGORIAN
BEGIN:VEVENT
UID:66a2cf12-1db4-11f1-823c-0a58a9feac02
DTSTAMP:20260422T151508Z
SUMMARY:Spring Picture Day - TK-6
URL;VALUE=URI:https://www.reachroyals.org/parents/calendar/8911019/spring-p
 icture-day-tk-6
DTSTART;VALUE=DATE:20260324
DTEND;VALUE=DATE:20260325
END:VEVENT
END:VCALENDAR
