BEGIN:VCALENDAR
VERSION:2.0
PRODID:SchoolNow
CALSCALE:GREGORIAN
BEGIN:VEVENT
UID:66a30b1c-1db4-11f1-a0c0-0a58a9feac02
DTSTAMP:20260422T151508Z
SUMMARY:MS Awards Assemby: T2 Honor Roll
URL;VALUE=URI:https://www.reachroyals.org/parents/calendar/8911020/ms-award
 s-assemby-t2-honor-roll
DTSTART;VALUE=DATE:20260326
DTEND;VALUE=DATE:20260327
END:VEVENT
END:VCALENDAR
