BEGIN:VCALENDAR
VERSION:2.0
PRODID:SchoolNow
CALSCALE:GREGORIAN
BEGIN:VEVENT
UID:66a30e00-1db4-11f1-b483-0a58a9feac02
DTSTAMP:20260422T151508Z
SUMMARY:House Inductions
URL;VALUE=URI:https://www.reachroyals.org/parents/calendar/8911021/house-in
 ductions
DTSTART:20260317T150000Z
DTEND:20260317T151500Z
END:VEVENT
END:VCALENDAR
