BEGIN:VCALENDAR
VERSION:2.0
PRODID:SchoolNow
CALSCALE:GREGORIAN
BEGIN:VEVENT
UID:66a3117a-1db4-11f1-a717-0a58a9feac02
DTSTAMP:20260422T151508Z
SUMMARY:Student Council Officers - Service Project
URL;VALUE=URI:https://www.reachroyals.org/parents/calendar/8911022/student-
 council-officers-service-project
DTSTART:20260328T170000Z
DTEND:20260328T190000Z
END:VEVENT
END:VCALENDAR
