BEGIN:VCALENDAR
VERSION:2.0
PRODID:SchoolNow
CALSCALE:GREGORIAN
BEGIN:VEVENT
UID:66a31436-1db4-11f1-99e7-0a58a9feac02
DTSTAMP:20260422T151508Z
SUMMARY:Pep Rally (MS)
URL;VALUE=URI:https://www.reachroyals.org/parents/calendar/8911023/pep-rall
 y-ms
DTSTART;VALUE=DATE:20260327
DTEND;VALUE=DATE:20260328
END:VEVENT
END:VCALENDAR
