BEGIN:VCALENDAR
VERSION:2.0
PRODID:SchoolNow
CALSCALE:GREGORIAN
BEGIN:VEVENT
UID:66a315e4-1db4-11f1-9e44-0a58a9feac02
DTSTAMP:20260422T151508Z
SUMMARY:Pep Rally (ES)
URL;VALUE=URI:https://www.reachroyals.org/parents/calendar/8911024/pep-rall
 y-es
DTSTART;VALUE=DATE:20260320
DTEND;VALUE=DATE:20260321
END:VEVENT
END:VCALENDAR
