BEGIN:VCALENDAR
VERSION:2.0
PRODID:SchoolNow
CALSCALE:GREGORIAN
BEGIN:VEVENT
UID:1bd2dfd0-3d2c-11f1-b1ac-0a58a9feac02
DTSTAMP:20260421T085008Z
SUMMARY:REACH School Site Council Meeting
URL;VALUE=URI:https://www.reachroyals.org/parents/calendar/9008144/reach-sc
 hool-site-council-meeting
DTSTART:20260424T010000Z
DTEND:20260424T020000Z
ATTACH;FILENAME=SSC Regular Meeting Agenda 4-23-26.pdf;FMTTYPE=application/
 pdf:https://drive.google.com/open?id=1MdLvn1L3PCXR2j8wbAoJBQNR9d579LI5
END:VEVENT
END:VCALENDAR
