BEGIN:VCALENDAR
VERSION:2.0
PRODID:SchoolNow
CALSCALE:GREGORIAN
BEGIN:VEVENT
UID:11a88c54-3df8-11f1-a9ff-0a58a9feac02
DTSTAMP:20260422T151508Z
SUMMARY:3-6 Family Lunch Day
URL;VALUE=URI:https://www.reachroyals.org/parents/calendar/9010233/3-6-fami
 ly-lunch-day
DTSTART;VALUE=DATE:20260501
DTEND;VALUE=DATE:20260502
END:VEVENT
END:VCALENDAR
